BEGIN:VCALENDAR
X-WR-TIMEZONE:Europe/Berlin
X-WR-CALNAME:rbb-Kalender
VERSION:2.0
METHOD:PUBLISH
CALSCALE:GREGORIAN
PRODID:rbb-CMS DAY
BEGIN:VEVENT
CLASS:PUBLIC
URL:http://www.rbb-online.de/content/rbb/rbb/gartenzeit/archiv/20131208_18_00/Buga_Premnitz.html
DTEND:20131208T183000
DTSTART:20131208T180000
UID:/content/rbb/rbb/gartenzeit/archiv/20131208_18_00/Buga_Premnitz
DTSTAMP:20140404T211500
DESCRIPTION:Premnitz ist ein Ort von Fünfen, an denen die Bundesgartenschau 2015 stattfinden wird. 2015 feiert Premnitz außerdem 100jähriges Bestehen als Industriestandort. Die Vorbereitungen für die Bundesgartenschau haben längst begonnen.\n\n\n
SUMMARY:Erste Baumpflanzung für die BUGA 2015 
END:VEVENT
END:VCALENDAR
