BEGIN:VCALENDAR
X-WR-TIMEZONE:Europe/Berlin
X-WR-CALNAME:rbb-Kalender
VERSION:2.0
METHOD:PUBLISH
CALSCALE:GREGORIAN
PRODID:rbb-CMS DAY
BEGIN:VEVENT
CLASS:PUBLIC
URL:http://www.rbb-online.de/content/rbb/rbb/gartenzeit/archiv/20131208_18_00/backen.html
DTEND:20131208T183000
DTSTART:20131208T180000
UID:/content/rbb/rbb/gartenzeit/archiv/20131208_18_00/backen
DTSTAMP:20140404T212108
DESCRIPTION:Backe, backe Kuchen - Damit Plätzchen und Kuchen gelingen, gibt es Pflanzen, die dem Gebäck das gewisse Etwas verleihen. Vor allem in der Vorweihnachtszeit lohnt sich da die richtige Würze.\n\n\n
SUMMARY:Pflanzen zum Backen
END:VEVENT
END:VCALENDAR
