BEGIN:VCALENDAR
X-WR-TIMEZONE:Europe/Berlin
X-WR-CALNAME:rbb-Kalender
VERSION:2.0
METHOD:PUBLISH
CALSCALE:GREGORIAN
PRODID:rbb-CMS DAY
BEGIN:VEVENT
CLASS:PUBLIC
URL:http://www.rbb-online.de/content/rbb/rbb/gartenzeit/archiv/20131208_18_00/meerrettich.html
DTEND:20131208T183000
DTSTART:20131208T180000
UID:/content/rbb/rbb/gartenzeit/archiv/20131208_18_00/meerrettich
DTSTAMP:20140404T211906
DESCRIPTION:Unter langen, teils schon welken Blättern, verbirgt sich der schärfste aller Meerrettiche, der Spreewälder. Die Blätter erinnern an Rüben oder Mangold. Meerrettich zu ernten ist äußerst mühsam.\n
SUMMARY:Meerrettich
END:VEVENT
END:VCALENDAR
