BEGIN:VCALENDAR
X-WR-TIMEZONE:Europe/Berlin
X-WR-CALNAME:rbb-Kalender
VERSION:2.0
METHOD:PUBLISH
CALSCALE:GREGORIAN
PRODID:rbb-CMS DAY
BEGIN:VEVENT
CLASS:PUBLIC
URL:http://www.rbb-online.de/content/rbb/rbb/gartenzeit/archiv/20131208_18_00/rote-bete.html
DTEND:20131208T183000
DTSTART:20131208T180000
UID:/content/rbb/rbb/gartenzeit/archiv/20131208_18_00/rote-bete
DTSTAMP:20140404T212307
DESCRIPTION:Wie man mit Meerrettich und Roter Bete eine köstliche Suppe anrichten kann, verrät Sternekoch Matthias Buchholz vom Buchholz im Gutshaus Britz.\n\n\n
SUMMARY:Rezept: Rote Bete Suppe mal anders
END:VEVENT
END:VCALENDAR
