BEGIN:VCALENDAR
X-WR-TIMEZONE:Europe/Berlin
X-WR-CALNAME:rbb-Kalender
VERSION:2.0
METHOD:PUBLISH
CALSCALE:GREGORIAN
PRODID:rbb-CMS DAY
BEGIN:VEVENT
CLASS:PUBLIC
URL:http://www.rbb-online.de/content/rbb/rbb/gartenzeit/archiv/20131208_18_00/weihnachtskaktus.html
DTEND:20131208T183000
DTSTART:20131208T180000
UID:/content/rbb/rbb/gartenzeit/archiv/20131208_18_00/weihnachtskaktus
DTSTAMP:20140404T211050
DESCRIPTION:Er hatte bisher den Ruf einer leicht angestaubten Großmutterpflanze. Der Weihnachtskaktus feiert ein triumphales Comeback mit Blüten in rot, rosa, orange oder elegantem weiß.\n
SUMMARY:Weihnachtskaktus
END:VEVENT
END:VCALENDAR
