BEGIN:VCALENDAR
X-WR-TIMEZONE:Europe/Berlin
X-WR-CALNAME:rbb-Kalender
VERSION:2.0
METHOD:PUBLISH
CALSCALE:GREGORIAN
PRODID:rbb-CMS DAY
BEGIN:VEVENT
LOCATION: 
CLASS:PUBLIC
URL:http://www.rbb-online.de/content/rbb/rbb/gartenzeit/archiv/20140119_1800.html
DTEND:20140119T183000
DTSTART:20140119T180000
UID:/content/rbb/rbb/gartenzeit/archiv/20140119_1800
DTSTAMP:20140404T212116
DESCRIPTION:+++ Grüne Tour 2014 +++ Orchideen +++ Andernach - Essbare Stadt +++ Schneeglöckchen +++ Werner Aisslinger: Haus der Zukunft +++ Sarah Price +++\n\n\n
SUMMARY:rbb Gartenzeit vom 19.01.2014
END:VEVENT
END:VCALENDAR
