BEGIN:VCALENDAR
X-WR-TIMEZONE:Europe/Berlin
X-WR-CALNAME:rbb-Kalender
VERSION:2.0
METHOD:PUBLISH
CALSCALE:GREGORIAN
PRODID:rbb-CMS DAY
BEGIN:VEVENT
CLASS:PUBLIC
URL:http://www.rbb-online.de/content/rbb/rbb/gartenzeit/archiv/20140119_1800/sarah_price.html
DTEND:20140119T183000
DTSTART:20140119T180000
UID:/content/rbb/rbb/gartenzeit/archiv/20140119_1800/sarah_price
DTSTAMP:20140404T211805
DESCRIPTION:Sarah Price mischt Englands Gartenszene auf. Sie ist der neue Star im Mutterland des Gartens. Gerade mal Anfang 30, hat sie schon so ziemlich alle Wettbewerbe gewonnen, die Rang und Namen haben.\n
SUMMARY:Englischer Garten von Sarah Price
END:VEVENT
END:VCALENDAR
