BEGIN:VCALENDAR
X-WR-TIMEZONE:Europe/Berlin
X-WR-CALNAME:rbb-Kalender
VERSION:2.0
METHOD:PUBLISH
CALSCALE:GREGORIAN
PRODID:rbb-CMS DAY
BEGIN:VEVENT
CLASS:PUBLIC
URL:http://www.rbb-online.de/content/rbb/rbb/gartenzeit/archiv/20140216_1800/baumschule.html
DTEND:20140216T183000
DTSTART:20140216T180000
UID:/content/rbb/rbb/gartenzeit/archiv/20140216_1800/baumschule
DTSTAMP:20140404T212138
DESCRIPTION:Der Schein trügt. Von wegen Winterschlaf. Auch wenn die Pflanzen jetzt physiologisch inaktiv sind, also weder Photosynthese noch Zellteilung stattfinden. Der Gärtner kann sich nicht auf’s Ohr legen, denn in einer Baumschule liegt auch im Winter immer Arbeit an. \n
SUMMARY:Was macht eine Baumschule?
END:VEVENT
END:VCALENDAR
