BEGIN:VCALENDAR
X-WR-TIMEZONE:Europe/Berlin
X-WR-CALNAME:rbb-Kalender
VERSION:2.0
METHOD:PUBLISH
CALSCALE:GREGORIAN
PRODID:rbb-CMS DAY
BEGIN:VEVENT
CLASS:PUBLIC
URL:http://www.rbb-online.de/content/rbb/rbb/gartenzeit/archiv/20140216_1800/peter-lenne-schule.html
DTEND:20140216T183000
DTSTART:20140216T180000
UID:/content/rbb/rbb/gartenzeit/archiv/20140216_1800/peter-lenne-schule
DTSTAMP:20140404T211932
DESCRIPTION:Idyllisch wie auf dem Dorf und doch Alltag am Peter-Josef-Lenné-Oberstufenzentrum für Agrarwirtschaft in Berlin-Zehlendorf. Viele, wie auch Jessica Jänicke, machen hier ihr Freiwilliges Ökologisches Jahr und haben alle Hände voll zu tun.\n
SUMMARY:Peter-Lenné-Schule Berlin 
END:VEVENT
END:VCALENDAR
