BEGIN:VCALENDAR
X-WR-TIMEZONE:Europe/Berlin
X-WR-CALNAME:rbb-Kalender
VERSION:2.0
METHOD:PUBLISH
CALSCALE:GREGORIAN
PRODID:rbb-CMS DAY
BEGIN:VEVENT
CLASS:PUBLIC
URL:http://www.rbb-online.de/content/rbb/rbb/gartenzeit/archiv/20140216_1800/pflanzgefaesse.html
DTEND:20140216T183000
DTSTART:20140216T180000
UID:/content/rbb/rbb/gartenzeit/archiv/20140216_1800/pflanzgefaesse
DTSTAMP:20140404T211626
DESCRIPTION:Diese Pflanzgefäße erkennt man erst auf den zweiten Blick, doch die zweckentfremdeten Accessoires eignen sich prima für eine Dosis Flower Power. \n
SUMMARY:Ungewöhnliche Pflanzgefäße
END:VEVENT
END:VCALENDAR
