BEGIN:VCALENDAR
X-WR-TIMEZONE:Europe/Berlin
X-WR-CALNAME:rbb-Kalender
VERSION:2.0
METHOD:PUBLISH
CALSCALE:GREGORIAN
PRODID:rbb-CMS DAY
BEGIN:VEVENT
LOCATION: 
CLASS:PUBLIC
URL:http://www.rbb-online.de/content/rbb/rbb/gartenzeit/archiv/20140302_1800.html
DTEND:20140302T183000
DTSTART:20140302T180000
UID:/content/rbb/rbb/gartenzeit/archiv/20140302_1800
DTSTAMP:20140404T211233
DESCRIPTION:+++ Gärtnerei Wosch in Nächst Neuendorf +++ Tipps +++ Veredeln +++ Narzissen +++ Erinnerung an Karl Foerster +++ Englischer Garten Sissinghurst +++\n\n\n
SUMMARY:rbb Gartenzeit vom 02.03.2014
END:VEVENT
END:VCALENDAR
