BEGIN:VCALENDAR
X-WR-TIMEZONE:Europe/Berlin
X-WR-CALNAME:rbb-Kalender
VERSION:2.0
METHOD:PUBLISH
CALSCALE:GREGORIAN
PRODID:rbb-CMS DAY
BEGIN:VEVENT
CLASS:PUBLIC
URL:http://www.rbb-online.de/content/rbb/rbb/gartenzeit/archiv/20140302_1800/narzissen.html
DTEND:20140302T183000
DTSTART:20140302T180000
UID:/content/rbb/rbb/gartenzeit/archiv/20140302_1800/narzissen
DTSTAMP:20140404T210954
DESCRIPTION:Wenn die Narzissen blühen, ist der Frühling meist schon da. Sie sind auch ein Symbol für die Überwindung der Dunkelheit und des Todes und schmücken oft zu Ostern die Festtagstische.\n
SUMMARY:Narzissen
END:VEVENT
END:VCALENDAR
