BEGIN:VCALENDAR
X-WR-TIMEZONE:Europe/Berlin
X-WR-CALNAME:rbb-Kalender
VERSION:2.0
METHOD:PUBLISH
CALSCALE:GREGORIAN
PRODID:rbb-CMS DAY
BEGIN:VEVENT
LOCATION: 
CLASS:PUBLIC
URL:http://www.rbb-online.de/content/rbb/rbb/gartenzeit/archiv/20140316_1800.html
DTEND:20140316T183000
DTSTART:20140316T180000
UID:/content/rbb/rbb/gartenzeit/archiv/20140316_1800
DTSTAMP:20140404T212001
DESCRIPTION:+++ Botanischer Garten Berlin +++ Krokusse +++ Tipps +++ Balkonideen +++ Nützlinge +++ Englands Gärten: Wisley +++ Moderation: Hellmuth Henneberg\n
SUMMARY:rbb Gartenzeit vom 16.03.2014
END:VEVENT
END:VCALENDAR
