BEGIN:VCALENDAR
X-WR-TIMEZONE:Europe/Berlin
X-WR-CALNAME:rbb-Kalender
VERSION:2.0
METHOD:PUBLISH
CALSCALE:GREGORIAN
PRODID:rbb-CMS DAY
BEGIN:VEVENT
CLASS:PUBLIC
URL:http://www.rbb-online.de/content/rbb/rbb/gartenzeit/archiv/20140316_1800/krokusse.html
DTEND:20140316T183000
DTSTART:20140316T180000
UID:/content/rbb/rbb/gartenzeit/archiv/20140316_1800/krokusse
DTSTAMP:20140404T211731
DESCRIPTION:Jürgen Wilke, pensionierter Wirtschaftswissenschaftler, ist den kleinen Frühblühern hoffnungslos verfallen. Bereits als Zwölfjähriger interessierten sie ihn. Auf schwarz-weiß Fotos versuchte er damals, ihren Reiz festzuhalten. \n
SUMMARY:Den Krokussen verfallen
END:VEVENT
END:VCALENDAR
