BEGIN:VCALENDAR
X-WR-TIMEZONE:Europe/Berlin
X-WR-CALNAME:rbb-Kalender
VERSION:2.0
METHOD:PUBLISH
CALSCALE:GREGORIAN
PRODID:rbb-CMS DAY
BEGIN:VEVENT
CLASS:PUBLIC
URL:http://www.rbb-online.de/content/rbb/rbb/gartenzeit/archiv/20140330_1800/spreewaldhof-baronick.html
DTEND:20140330T183000
DTSTART:20140330T180000
UID:/content/rbb/rbb/gartenzeit/archiv/20140330_1800/spreewaldhof-baronick
DTSTAMP:20140404T211006
DESCRIPTION:Frühlingserwachen im Spreewald. Der Winter wird ausgetrieben. Es sprießt schon, das erste Grün, und es lockt. Die Felder warten auf ihre Bestellung, manches hat dem milden Winter getrotzt.\n
SUMMARY:Buntes Treiben auf dem Spreewälder Gemüsehof
END:VEVENT
END:VCALENDAR
