BEGIN:VCALENDAR
X-WR-TIMEZONE:Europe/Berlin
X-WR-CALNAME:rbb-Kalender
VERSION:2.0
METHOD:PUBLISH
CALSCALE:GREGORIAN
PRODID:rbb-CMS DAY
BEGIN:VEVENT
CLASS:PUBLIC
URL:http://www.rbb-online.de/content/rbb/rbb/gartenzeit/archiv/20140330_1800/tipps.html
DTEND:20140330T183000
DTSTART:20140330T180000
UID:/content/rbb/rbb/gartenzeit/archiv/20140330_1800/tipps
DTSTAMP:20140404T212018
DESCRIPTION:Teichpflege +++ Kletterpflanzen vorziehen +++ Obstbäume düngen +++ Bambus schneiden +++ Pomeranzen-Rezept +++\n
SUMMARY:Tipps
END:VEVENT
END:VCALENDAR
