BEGIN:VCALENDAR
X-WR-TIMEZONE:Europe/Berlin
X-WR-CALNAME:rbb-Kalender
VERSION:2.0
METHOD:PUBLISH
CALSCALE:GREGORIAN
PRODID:rbb-CMS DAY
BEGIN:VEVENT
CLASS:PUBLIC
URL:http://www.rbb-online.de/content/rbb/rbb/gartenzeit/archiv/april/magnolien___bezaubernde.html
DTEND:20130407T180000
DTSTART:20130407T180000
UID:/content/rbb/rbb/gartenzeit/archiv/april/magnolien___bezaubernde
DTSTAMP:20140406T164130
DESCRIPTION:Wenn es im Frühsommer nach einem Gewitterregen im Garten schön warm und feucht ist, dann sehnt sich die Weinbergschnecke nach Liebe. Um die Liebe dreht sich zu dieser Jahreszeit alles. Wenn sie nicht frisst oder schläft, dann sucht sie nach einem Partner. Jede andere liebeswillige Schnecke ist ihr recht.
SUMMARY:Liebe der Weinbergschnecken
END:VEVENT
END:VCALENDAR
