BEGIN:VCALENDAR
X-WR-TIMEZONE:Europe/Berlin
X-WR-CALNAME:rbb-Kalender
VERSION:2.0
METHOD:PUBLISH
CALSCALE:GREGORIAN
PRODID:rbb-CMS DAY
BEGIN:VEVENT
CLASS:PUBLIC
URL:http://www.rbb-online.de/content/rbb/rbb/gartenzeit/archiv/april/tomatenernte_im_zimmer.html
DTEND:20130407T180000
DTSTART:20130407T180000
UID:/content/rbb/rbb/gartenzeit/archiv/april/tomatenernte_im_zimmer
DTSTAMP:20140405T182237
DESCRIPTION:"Mister Hepatica“ nennen Gärtnerfreunde diesen Mann. Hepatica, so wie das Leberblümchen mit botanischem Namen heißt. Andreas Händel züchtet und sammelt die zum Niederknien hinreißenden Frühblüher – darunter auch manche der empfindlichen japanischen, die in ihrer Heimat berühmt und richtig teuer sind. Ein paar 1000 Euro für ein seltenes Exemplar zu zahlen, ist unter Japans Blumen-Enthusiasten durchaus üblich.
SUMMARY:Leberblümchen
END:VEVENT
END:VCALENDAR
