BEGIN:VCALENDAR
X-WR-TIMEZONE:Europe/Berlin
X-WR-CALNAME:rbb-Kalender
VERSION:2.0
METHOD:PUBLISH
CALSCALE:GREGORIAN
PRODID:rbb-CMS DAY
BEGIN:VEVENT
CLASS:PUBLIC
URL:http://www.rbb-online.de/content/rbb/rbb/gartenzeit/archiv/gartenzeit21042013/die_rbb_gartenzeit.html
DTEND:20130421T180000
DTSTART:20130421T180000
UID:/content/rbb/rbb/gartenzeit/archiv/gartenzeit21042013/die_rbb_gartenzeit
DTSTAMP:20140405T182739
DESCRIPTION:Mit mehr als 1500 verschiedenen Gehölzen auf einer Fläche von 8 ha ist er nicht nur für Fachleute sondern auch für Gartenfreunde und Spaziergänger interessant. Hellmuth Henneberg präsentiert erste blumige Eindrücke von der Landesgartenschau in Prenzlau, deren Eröffnung aufgrund der widrigen Witterungsverhältnisse ja mit Skepsis erwartet wurde.\n\n\n
SUMMARY:Die rbb Gartenzeit meldet sich aus dem Forstbotanischen Garten in Eberswalde
END:VEVENT
END:VCALENDAR
