BEGIN:VCALENDAR
X-WR-TIMEZONE:Europe/Berlin
X-WR-CALNAME:rbb-Kalender
VERSION:2.0
METHOD:PUBLISH
CALSCALE:GREGORIAN
PRODID:rbb-CMS DAY
BEGIN:VEVENT
CLASS:PUBLIC
URL:http://www.rbb-online.de/content/rbb/rbb/gartenzeit/archiv/gartenzeit21042013/magnolien___bezaubernde.html
DTEND:20130421T180000
DTSTART:20130421T180000
UID:/content/rbb/rbb/gartenzeit/archiv/gartenzeit21042013/magnolien___bezaubernde
DTSTAMP:20140406T164037
DESCRIPTION:Ob einfarbig, zweifarbig oder dreifarbig. Einfach, gefüllt oder gefranst. Nach diesem scheinbar unendlich langen Winter sind diese zarten, ersten Frühlingsboten mehr als willkommen. \n
SUMMARY:Tulipan im Britzer Garten
END:VEVENT
END:VCALENDAR
