BEGIN:VCALENDAR
X-WR-TIMEZONE:Europe/Berlin
X-WR-CALNAME:rbb-Kalender
VERSION:2.0
METHOD:PUBLISH
CALSCALE:GREGORIAN
PRODID:rbb-CMS DAY
BEGIN:VEVENT
CLASS:PUBLIC
URL:http://www.rbb-online.de/content/rbb/rbb/gartenzeit/archiv/gartenzeit_vom_02.html
DTEND:20130602T180000
DTSTART:20130602T180000
UID:/content/rbb/rbb/gartenzeit/archiv/gartenzeit_vom_02
DTSTAMP:20140405T181645
DESCRIPTION:Privatgarten Kleinmachnow +++ Tipps +++ Rosenbegleiter +++ Hosta +++ Dahlienfloristik +++ Gestaltung mit Natursteinen +++ Privatgarten von Familie Listemann-Rahming\n
SUMMARY:Gartenzeit vom 02.06.2013
END:VEVENT
END:VCALENDAR
