BEGIN:VCALENDAR
X-WR-TIMEZONE:Europe/Berlin
X-WR-CALNAME:rbb-Kalender
VERSION:2.0
METHOD:PUBLISH
CALSCALE:GREGORIAN
PRODID:rbb-CMS DAY
BEGIN:VEVENT
CLASS:PUBLIC
URL:http://www.rbb-online.de/content/rbb/rbb/gartenzeit/archiv/gartenzeit_vom_02/dahlienfloristik.html
DTEND:20130602T180000
DTSTART:20130602T180000
UID:/content/rbb/rbb/gartenzeit/archiv/gartenzeit_vom_02/dahlienfloristik
DTSTAMP:20140406T163831
DESCRIPTION:Ob mit zartem Violett, feurigem Orange oder mit kräftigem Dunkelrot.- Dahlien begeistern mit einem floralen Feuerwerk an Farben. Ob als Freischwimmer in der Schale, auf einer Etagere oder solo in der Vase – nicht nur im Garten, auch in phantasievollen Arrangements für die Wohnung bezaubern Dahlien.
SUMMARY:Dahlienfloristik
END:VEVENT
END:VCALENDAR
