BEGIN:VCALENDAR
X-WR-TIMEZONE:Europe/Berlin
X-WR-CALNAME:rbb-Kalender
VERSION:2.0
METHOD:PUBLISH
CALSCALE:GREGORIAN
PRODID:rbb-CMS DAY
BEGIN:VEVENT
CLASS:PUBLIC
URL:http://www.rbb-online.de/content/rbb/rbb/gartenzeit/archiv/gartenzeit_vom_02/hosta.html
DTEND:20130602T180000
DTSTART:20130602T180000
UID:/content/rbb/rbb/gartenzeit/archiv/gartenzeit_vom_02/hosta
DTSTAMP:20140406T163843
DESCRIPTION:Sie sind die heimlichen Stars im Schattenbeet und kommen auch unter Bäumen und Sträuchern gut zurecht: die Funkien, botanisch Hosta. Ihre großen, imposanten Blätter liefern mit ihren unterschiedlichen Grüntönen interessante Farbtupfer und sorgen spätestens ab Juni dafür, dass hier kein Unkraut mehr durch kommt.
SUMMARY:Hosta
END:VEVENT
END:VCALENDAR
