BEGIN:VCALENDAR
X-WR-TIMEZONE:Europe/Berlin
X-WR-CALNAME:rbb-Kalender
VERSION:2.0
METHOD:PUBLISH
CALSCALE:GREGORIAN
PRODID:rbb-CMS DAY
BEGIN:VEVENT
CLASS:PUBLIC
URL:http://www.rbb-online.de/content/rbb/rbb/gartenzeit/archiv/gartenzeit_vom_02/tipps.html
DTEND:20130602T180000
DTSTART:20130602T180000
UID:/content/rbb/rbb/gartenzeit/archiv/gartenzeit_vom_02/tipps
DTSTAMP:20140405T182354
DESCRIPTION:+++ Kamelien beschneiden +++ Bärlauch ernten +++ Endless Summer Collection +++\n
SUMMARY:Tipps
END:VEVENT
END:VCALENDAR
