BEGIN:VCALENDAR
X-WR-TIMEZONE:Europe/Berlin
X-WR-CALNAME:rbb-Kalender
VERSION:2.0
METHOD:PUBLISH
CALSCALE:GREGORIAN
PRODID:rbb-CMS DAY
BEGIN:VEVENT
CLASS:PUBLIC
URL:http://www.rbb-online.de/content/rbb/rbb/gartenzeit/archiv/gartenzeit_vom_140/hortensiensorten.html
DTEND:20130714T180000
DTSTART:20130714T180000
UID:/content/rbb/rbb/gartenzeit/archiv/gartenzeit_vom_140/hortensiensorten
DTSTAMP:20140406T163929
DESCRIPTION:Sie ist eine der beliebtesten Pflanzen im Garten, auf Balkon und Terrasse: die Hortensie. Botanisch gesehen, gehört sie zu den Steinbrechgewächsen und kommt ursprünglich aus Japan.
SUMMARY:Hortensiensorten
END:VEVENT
END:VCALENDAR
