BEGIN:VCALENDAR
X-WR-TIMEZONE:Europe/Berlin
X-WR-CALNAME:rbb-Kalender
VERSION:2.0
METHOD:PUBLISH
CALSCALE:GREGORIAN
PRODID:rbb-CMS DAY
BEGIN:VEVENT
CLASS:PUBLIC
URL:http://www.rbb-online.de/content/rbb/rbb/gartenzeit/archiv/gartenzeit_vom_140/mediterrane_pflanzen.html
DTEND:20130714T180000
DTSTART:20130714T180000
UID:/content/rbb/rbb/gartenzeit/archiv/gartenzeit_vom_140/mediterrane_pflanzen
DTSTAMP:20140406T163923
DESCRIPTION:Die Begeisterung für alles "Mediterrane“ ist groß, nicht nur im Urlaub. Mediterrane Pflanzen verschönern auch hierzulande unsere Gärten. Und das hat Tradition.
SUMMARY:Mediterrane Pflanzen
END:VEVENT
END:VCALENDAR
