BEGIN:VCALENDAR
X-WR-TIMEZONE:Europe/Berlin
X-WR-CALNAME:rbb-Kalender
VERSION:2.0
METHOD:PUBLISH
CALSCALE:GREGORIAN
PRODID:rbb-CMS DAY
BEGIN:VEVENT
CLASS:PUBLIC
URL:http://www.rbb-online.de/content/rbb/rbb/gartenzeit/archiv/gartenzeit_vom_140/tipps.html
DTEND:20130714T180000
DTSTART:20130714T180000
UID:/content/rbb/rbb/gartenzeit/archiv/gartenzeit_vom_140/tipps
DTSTAMP:20140405T182506
DESCRIPTION:Hacken hält den Boden feucht +++ Petersilie nachsäen +++ Vom Grasschnitt zum Kompost +++ Wasserbecken +++
SUMMARY:Tipps
END:VEVENT
END:VCALENDAR
