BEGIN:VCALENDAR
X-WR-TIMEZONE:Europe/Berlin
X-WR-CALNAME:rbb-Kalender
VERSION:2.0
METHOD:PUBLISH
CALSCALE:GREGORIAN
PRODID:rbb-CMS DAY
BEGIN:VEVENT
CLASS:PUBLIC
URL:http://www.rbb-online.de/content/rbb/rbb/gartenzeit/archiv/gartenzeit_vom_232/pflanzendoktor_rosen.html
DTEND:20130623T180000
DTSTART:20130623T180000
UID:/content/rbb/rbb/gartenzeit/archiv/gartenzeit_vom_232/pflanzendoktor_rosen
DTSTAMP:20140406T163623
DESCRIPTION:Jenne Packwitz ist Pflanzendoktor und kommt, wenn er gerufen wird. Seine Patienten sind nicht mobil und mitunter ist es schon sehr hilfreich, erste Symptome zu analysieren, um einen schwereren Krankheitsverlauf zu verhindern.\n
SUMMARY:Pflanzendoktor
END:VEVENT
END:VCALENDAR
