BEGIN:VCALENDAR
X-WR-TIMEZONE:Europe/Berlin
X-WR-CALNAME:rbb-Kalender
VERSION:2.0
METHOD:PUBLISH
CALSCALE:GREGORIAN
PRODID:rbb-CMS DAY
BEGIN:VEVENT
LOCATION: 
CLASS:PUBLIC
URL:http://www.rbb-online.de/content/rbb/rbb/gartenzeit/archiv/living_pictures.html
DTEND:20140202T183000
DTSTART:20140202T180000
UID:/content/rbb/rbb/gartenzeit/archiv/living_pictures
DTSTAMP:20140404T211939
DESCRIPTION:+++ Botanischer Garten Potsdam +++ Living Pictures +++ Erde aus Profihand +++ Freilandorchideen +++ Pflanzen aus Südafrika +++ Englischer Garten +++\n
SUMMARY:rbb Gartenzeit vom 02.02.2014 
END:VEVENT
END:VCALENDAR
