BEGIN:VCALENDAR
X-WR-TIMEZONE:Europe/Berlin
X-WR-CALNAME:rbb-Kalender
VERSION:2.0
METHOD:PUBLISH
CALSCALE:GREGORIAN
PRODID:rbb-CMS DAY
BEGIN:VEVENT
CLASS:PUBLIC
URL:http://www.rbb-online.de/content/rbb/rbb/gartenzeit/archiv/living_pictures/botanischer-garten-potsdam.html
DTEND:20140202T183000
DTSTART:20140202T180000
UID:/content/rbb/rbb/gartenzeit/archiv/living_pictures/botanischer-garten-potsdam
DTSTAMP:20140404T212228
DESCRIPTION:Zur Hochzeit des Winters macht die rbb Gartenzeit Station im Botanischen Garten in Potsdam. Jetzt üben die Gewächshäuser mit ihren rund 4.600 tropischen und subtropischen Pflanzenarten auf Moderator Hellmuth Henneberg einen besonderen Reiz aus.\n
SUMMARY:Botanischer Garten in Potsdam
END:VEVENT
END:VCALENDAR
