BEGIN:VCALENDAR
X-WR-TIMEZONE:Europe/Berlin
X-WR-CALNAME:rbb-Kalender
VERSION:2.0
METHOD:PUBLISH
CALSCALE:GREGORIAN
PRODID:rbb-CMS DAY
BEGIN:VEVENT
CLASS:PUBLIC
URL:http://www.rbb-online.de/content/rbb/rbb/gartenzeit/archiv/living_pictures/frauenschuh-orchideen.html
DTEND:20140202T183000
DTSTART:20140202T180000
UID:/content/rbb/rbb/gartenzeit/archiv/living_pictures/frauenschuh-orchideen
DTSTAMP:20140404T211652
DESCRIPTION:Frauenschuh-Orchideen gelten als die schönsten winterharten Orchideen überhaupt. Einziger heimischer Vertreter ist der „Gelbe Frauenschuh“ (Cypripedium calceolus), der allerdings streng geschützt ist, weil er selbst und seine Lebensräume stark gefährdet sind.\n
SUMMARY:Frauenschuh-Orchideen
END:VEVENT
END:VCALENDAR
