BEGIN:VCALENDAR
X-WR-TIMEZONE:Europe/Berlin
X-WR-CALNAME:rbb-Kalender
VERSION:2.0
METHOD:PUBLISH
CALSCALE:GREGORIAN
PRODID:rbb-CMS DAY
BEGIN:VEVENT
CLASS:PUBLIC
URL:http://www.rbb-online.de/content/rbb/rbb/gartenzeit/archiv/living_pictures/living_pictures.html
DTEND:20140202T183000
DTSTART:20140202T180000
UID:/content/rbb/rbb/gartenzeit/archiv/living_pictures/living_pictures
DTSTAMP:20140404T210924
DESCRIPTION:Live Picture – lebende oder begrünte Bilder liegen immer mehr im Trend. Es ist nicht mehr nur Gartenkünstlern wie Patrick Blanc vorbehalten, vertikale Pflanzenflächen zu gestalten.\n
SUMMARY:Living Pictures - Begrünte Bilder
END:VEVENT
END:VCALENDAR
