BEGIN:VCALENDAR
X-WR-TIMEZONE:Europe/Berlin
X-WR-CALNAME:rbb-Kalender
VERSION:2.0
METHOD:PUBLISH
CALSCALE:GREGORIAN
PRODID:rbb-CMS DAY
BEGIN:VEVENT
CLASS:PUBLIC
URL:http://www.rbb-online.de/content/rbb/rbb/gartenzeit/quiz0/quiz.html
DTEND:20140330T180000
DTSTART:20140330T180000
UID:/content/rbb/rbb/gartenzeit/quiz0/quiz
DTSTAMP:20140404T212129
DESCRIPTION:Wenn Sie die Antwort wissen, dann schreiben Sie uns!\n
SUMMARY:Wie groß ist der Park Sanssouci?
END:VEVENT
END:VCALENDAR
