BEGIN:VCALENDAR
X-WR-TIMEZONE:Europe/Berlin
X-WR-CALNAME:rbb-Kalender
VERSION:2.0
METHOD:PUBLISH
CALSCALE:GREGORIAN
PRODID:rbb-CMS DAY
BEGIN:VEVENT
CLASS:PUBLIC
URL:http://www.rbb-online.de/content/rbb/rbb/geheimnisvolle_orte/archiv/die-pyramiden-vom-treptower-park.html
DTEND:20131119T210000
DTSTART:20131119T210000
UID:/content/rbb/rbb/geheimnisvolle_orte/archiv/die-pyramiden-vom-treptower-park
DTSTAMP:20140405T040638
DESCRIPTION:So gut wie nichts erinnert an die "Berliner Gewerbeausstellung" von 1896. Der Film lässt das Jahrhundertereignis noch einmal aufleben.\n
SUMMARY:Die Pyramiden vom Treptower Park
END:VEVENT
END:VCALENDAR
