BEGIN:VCALENDAR
X-WR-TIMEZONE:Europe/Berlin
X-WR-CALNAME:rbb-Kalender
VERSION:2.0
METHOD:PUBLISH
CALSCALE:GREGORIAN
PRODID:rbb-CMS DAY
BEGIN:VEVENT
CLASS:PUBLIC
URL:http://www.rbb-online.de/content/rbb/rbb/geheimnisvolle_orte/archiv/die_beelitz_heilstaetten.html
DTEND:20130910T210000
DTSTART:20130910T210000
UID:/content/rbb/rbb/geheimnisvolle_orte/archiv/die_beelitz_heilstaetten
DTSTAMP:20140405T041107
DESCRIPTION:Die Dokumentation nähert sich über ganz persönliche Geschichten von Zeitzeugen den verschiedenen Epochen der Heilstättengeschichte.\n
SUMMARY:Beelitz-Heilstätten
END:VEVENT
END:VCALENDAR
