BEGIN:VCALENDAR
X-WR-TIMEZONE:Europe/Berlin
X-WR-CALNAME:rbb-Kalender
VERSION:2.0
METHOD:PUBLISH
CALSCALE:GREGORIAN
PRODID:rbb-CMS DAY
BEGIN:VEVENT
CLASS:PUBLIC
URL:http://www.rbb-online.de/content/rbb/rbb/geheimnisvolle_orte/archiv/die_russische_botschaft.html
DTEND:20130521T201500
DTSTART:20130521T201500
UID:/content/rbb/rbb/geheimnisvolle_orte/archiv/die_russische_botschaft
DTSTAMP:20140405T040925
DESCRIPTION:Kaum ein anderer Ort in Berlin ist wohl so Geheimnis umwoben wie die Botschaft der Russischen Föderation in Unter den Linden 63 - 65.\n
SUMMARY:Die Russische Botschaft
END:VEVENT
END:VCALENDAR
