BEGIN:VCALENDAR
X-WR-TIMEZONE:Europe/Berlin
X-WR-CALNAME:rbb-Kalender
VERSION:2.0
METHOD:PUBLISH
CALSCALE:GREGORIAN
PRODID:rbb-CMS DAY
BEGIN:VEVENT
CLASS:PUBLIC
URL:http://www.rbb-online.de/content/rbb/rbb/geheimnisvolle_orte/archiv/geheimnisvolle-orte-potsdamer-stadtschloss.html
DTEND:20140121T201500
DTSTART:20140121T201500
UID:/content/rbb/rbb/geheimnisvolle_orte/archiv/geheimnisvolle-orte-potsdamer-stadtschloss
DTSTAMP:20140405T041229
DESCRIPTION:Die Dokumentation erzählt die Geschichte dieses Schlosses als Zentrum von Macht, Politik und Geist im Laufe der Jahrhunderte.\n
SUMMARY:Das Potsdamer Stadtschloss
END:VEVENT
END:VCALENDAR
