BEGIN:VCALENDAR
X-WR-TIMEZONE:Europe/Berlin
X-WR-CALNAME:rbb-Kalender
VERSION:2.0
METHOD:PUBLISH
CALSCALE:GREGORIAN
PRODID:rbb-CMS DAY
BEGIN:VEVENT
CLASS:PUBLIC
URL:http://www.rbb-online.de/content/rbb/rbb/geheimnisvolle_orte/archiv/hitlers_schloss_in.html
DTEND:20130924T201500
DTSTART:20130924T201500
UID:/content/rbb/rbb/geheimnisvolle_orte/archiv/hitlers_schloss_in
DTSTAMP:20140405T041421
DESCRIPTION:Exklusive Fotos und Dokumente ergänzen bisher selten gezeigtes Archivmaterial. Sie erzählen die kaum bekannte Geschichte eines immer noch geheimnisvollen Ortes.\n
SUMMARY:Hitlers Schloss in Posen
END:VEVENT
END:VCALENDAR
