BEGIN:VCALENDAR
X-WR-TIMEZONE:Europe/Berlin
X-WR-CALNAME:rbb-Kalender
VERSION:2.0
METHOD:PUBLISH
CALSCALE:GREGORIAN
PRODID:rbb-CMS DAY
BEGIN:VEVENT
CLASS:PUBLIC
URL:http://www.rbb-online.de/content/rbb/rbb/geheimnisvolle_orte/archiv/klein_glienicke.html
DTEND:20130910T201500
DTSTART:20130910T201500
UID:/content/rbb/rbb/geheimnisvolle_orte/archiv/klein_glienicke
DTSTAMP:20140405T041250
DESCRIPTION:Klein Glienicke war jahrzehntelang der Ort "hinter der Mauer". Nur durch eine kleine Brücke mit Babelsberg und dem Rest der DDR verbunden, war der Ort eine "Sondersicherheitszone" umgeben vom "Klassenfeind".\n
SUMMARY:Klein-Glienicke
END:VEVENT
END:VCALENDAR
