BEGIN:VCALENDAR
X-WR-TIMEZONE:Europe/Berlin
X-WR-CALNAME:rbb-Kalender
VERSION:2.0
METHOD:PUBLISH
CALSCALE:GREGORIAN
PRODID:rbb-CMS DAY
BEGIN:VEVENT
CLASS:PUBLIC
URL:http://www.rbb-online.de/content/rbb/rbb/geheimnisvolle_orte/archiv/neustadt-dosse.html
DTEND:20131203T201500
DTSTART:20131203T201500
UID:/content/rbb/rbb/geheimnisvolle_orte/archiv/neustadt-dosse
DTSTAMP:20140405T041157
DESCRIPTION:Der Film zeigt die stets bewegte und immer eng mit der Geschichte des Landes verwobene Historie eines der größten Gestüte Europas.\n
SUMMARY:Neustadt/Dosse - Das preußische Gestüt
END:VEVENT
END:VCALENDAR
