BEGIN:VCALENDAR
X-WR-TIMEZONE:Europe/Berlin
X-WR-CALNAME:rbb-Kalender
VERSION:2.0
METHOD:PUBLISH
CALSCALE:GREGORIAN
PRODID:rbb-CMS DAY
BEGIN:VEVENT
CLASS:PUBLIC
URL:http://www.rbb-online.de/content/rbb/rbb/geheimnisvolle_orte/archiv/stasi_knast_und_sperrgebiet.html
DTEND:20130115T201500
DTSTART:20130115T201500
UID:/content/rbb/rbb/geheimnisvolle_orte/archiv/stasi_knast_und_sperrgebiet
DTSTAMP:20140405T040839
DESCRIPTION:Die Dokumentation schaut hinter die Mauern des damaligen Sperrgebietes, erzählt dramatische Geschichten von damals Inhaftierten, seziert die Anatomie des Unterdrückungsapparates an diesem einst abgeschirmten, geheimnisvollen Ort.\n
SUMMARY:Stasi-Knast und Sperrgebiet
END:VEVENT
END:VCALENDAR
