BEGIN:VCALENDAR
X-WR-TIMEZONE:Europe/Berlin
X-WR-CALNAME:rbb-Kalender
VERSION:2.0
METHOD:PUBLISH
CALSCALE:GREGORIAN
PRODID:rbb-CMS DAY
BEGIN:VEVENT
CLASS:PUBLIC
URL:http://www.rbb-online.de/content/rbb/rbb/heimatjournal/archiv/carla-kniestedt-ist--coolinarisch--in-berlin-unterwegs-.html
DTEND:20131228T192500
DTSTART:20131228T190000
UID:/content/rbb/rbb/heimatjournal/archiv/carla-kniestedt-ist--coolinarisch--in-berlin-unterwegs-
DTSTAMP:20140405T003428
DESCRIPTION:Street Food Thursday – die Welt in der Markthalle 9 +++ Onigiri – Japanische Reisdreiecke am U-Bahn-Gleis +++ Soupe populaire – Tim Raue in der Bötzow-Brauerei\n\n\n
SUMMARY:Carla Kniestedt ist "coolinarisch" in Berlin unterwegs:
END:VEVENT
END:VCALENDAR
