BEGIN:VCALENDAR
X-WR-TIMEZONE:Europe/Berlin
X-WR-CALNAME:rbb-Kalender
VERSION:2.0
METHOD:PUBLISH
CALSCALE:GREGORIAN
PRODID:rbb-CMS DAY
BEGIN:VEVENT
CLASS:PUBLIC
URL:http://www.rbb-online.de/content/rbb/rbb/heimatjournal/archiv/carla-kniestedt-ist-in-berlin-unterwegs--die-steglitzer-schlosss.html
DTEND:20140125T190000
DTSTART:20140125T190000
UID:/content/rbb/rbb/heimatjournal/archiv/carla-kniestedt-ist-in-berlin-unterwegs--die-steglitzer-schlosss
DTSTAMP:20140405T003602
DESCRIPTION:radioBerlin 88,8 - Stadtstudio zum Kennenlernen +++ Schlosspark Theater - Dieter Hallervorden zum Zugucken +++ Deutsches Blinden-Museum -  Alltag zum Anfassen\n\n\n\n\n
SUMMARY:Carla Kniestedt ist in Berlin unterwegs: die Steglitzer Schloßstraße
END:VEVENT
END:VCALENDAR
