BEGIN:VCALENDAR
X-WR-TIMEZONE:Europe/Berlin
X-WR-CALNAME:rbb-Kalender
VERSION:2.0
METHOD:PUBLISH
CALSCALE:GREGORIAN
PRODID:rbb-CMS DAY
BEGIN:VEVENT
CLASS:PUBLIC
URL:http://www.rbb-online.de/content/rbb/rbb/heimatjournal/archiv/carla-kniestedt-ist-in-berlin-unterwegs--niederschoenhausen.html
DTEND:20131130T190000
DTSTART:20131130T190000
UID:/content/rbb/rbb/heimatjournal/archiv/carla-kniestedt-ist-in-berlin-unterwegs--niederschoenhausen
DTSTAMP:20140405T003205
DESCRIPTION:Hip Hop auf Rädern – unterwegs mit dem Tonbus +++ Der Blaue Stern leuchtet – Kino mit Tradition +++ Weihnachtszeit – Adventssingen in der Friedenskirche\n\n\n
SUMMARY:Carla Kniestedt ist in Berlin unterwegs: Niederschönhausen
END:VEVENT
END:VCALENDAR
