BEGIN:VCALENDAR
X-WR-TIMEZONE:Europe/Berlin
X-WR-CALNAME:rbb-Kalender
VERSION:2.0
METHOD:PUBLISH
CALSCALE:GREGORIAN
PRODID:rbb-CMS DAY
BEGIN:VEVENT
CLASS:PUBLIC
URL:http://www.rbb-online.de/content/rbb/rbb/heimatjournal/archiv/carla-kniestedt-ist-in-der-uckermark-unterwegs--prenzlau-und-die.html
DTEND:20130928T190000
DTSTART:20130928T190000
UID:/content/rbb/rbb/heimatjournal/archiv/carla-kniestedt-ist-in-der-uckermark-unterwegs--prenzlau-und-die
DTSTAMP:20140405T003526
DESCRIPTION:Genuss: Kandierte Blüten und essbare Wildpflanzen +++ Abenteuer: Elektro-Räder und Hausboote +++ Kultur: Der Garten Eden und die LAGA\n\n\n\n\n\n
SUMMARY:Carla Kniestedt ist in der Uckermark unterwegs: Prenzlau und die LAGA
END:VEVENT
END:VCALENDAR
