BEGIN:VCALENDAR
X-WR-TIMEZONE:Europe/Berlin
X-WR-CALNAME:rbb-Kalender
VERSION:2.0
METHOD:PUBLISH
CALSCALE:GREGORIAN
PRODID:rbb-CMS DAY
BEGIN:VEVENT
CLASS:PUBLIC
URL:http://www.rbb-online.de/content/rbb/rbb/heimatjournal/archiv/carla_kniestedt_ist24.html
DTEND:20130518T190000
DTSTART:20130518T190000
UID:/content/rbb/rbb/heimatjournal/archiv/carla_kniestedt_ist24
DTSTAMP:20140405T003510
DESCRIPTION:Chinatown in Berlin - asiatische Restaurants und Geschäfte +++ Autos hinter Vorhängeschlössern - die denkmalgeschützten Kantgaragen +++ Nesthäkchen im Schlafzimmer - Else Urys Wohnung +++ Vergessene Geschichte - das ehemalige Frauengefängnis
SUMMARY:Carla Kniestedt ist in Berlin-Charlottenburg, in der Kantstraße unterwegs
END:VEVENT
END:VCALENDAR
