BEGIN:VCALENDAR
X-WR-TIMEZONE:Europe/Berlin
X-WR-CALNAME:rbb-Kalender
VERSION:2.0
METHOD:PUBLISH
CALSCALE:GREGORIAN
PRODID:rbb-CMS DAY
BEGIN:VEVENT
CLASS:PUBLIC
URL:http://www.rbb-online.de/content/rbb/rbb/heimatjournal/archiv/carla_kniestedt_und0.html
DTEND:20130727T192600
DTSTART:20130727T190000
UID:/content/rbb/rbb/heimatjournal/archiv/carla_kniestedt_und0
DTSTAMP:20140405T003824
DESCRIPTION:Wo Carla mit dem Esel wanderte +++ Wo Ulli die Berliner Berge erklomm +++ Wo wir mit dem Floß durch Berlin fuhren +++ Wo der häufigste Gast der Sendung lebt\n
SUMMARY:Carla Kniestedt und Ulli Zelle sind in Brandenburg und Berlin unterwegs: Geocaching zu 15 Jahren Heimatjournal - Teil 2
END:VEVENT
END:VCALENDAR
