BEGIN:VCALENDAR
X-WR-TIMEZONE:Europe/Berlin
X-WR-CALNAME:rbb-Kalender
VERSION:2.0
METHOD:PUBLISH
CALSCALE:GREGORIAN
PRODID:rbb-CMS DAY
BEGIN:VEVENT
CLASS:PUBLIC
URL:http://www.rbb-online.de/content/rbb/rbb/heimatjournal/archiv/ulli-zelle-ist-in-berlin-kreuzberg-unterwegs--der-wrangelkiez.html
DTEND:20140215T193000
DTSTART:20140215T190000
UID:/content/rbb/rbb/heimatjournal/archiv/ulli-zelle-ist-in-berlin-kreuzberg-unterwegs--der-wrangelkiez
DTSTAMP:20140405T003316
DESCRIPTION:Kiezgeschichten im Blogroman +++ Improvisation im Ratibortheater +++ Modedesign in der Esmod +++ Artistik im Kinderzirkus\n
SUMMARY:Ulli Zelle ist in Berlin-Kreuzberg unterwegs: der Wrangelkiez
END:VEVENT
END:VCALENDAR
