BEGIN:VCALENDAR
X-WR-TIMEZONE:Europe/Berlin
X-WR-CALNAME:rbb-Kalender
VERSION:2.0
METHOD:PUBLISH
CALSCALE:GREGORIAN
PRODID:rbb-CMS DAY
BEGIN:VEVENT
CLASS:PUBLIC
URL:http://www.rbb-online.de/content/rbb/rbb/heimatjournal/archiv/ulli-zelle-ist-in-berlin-unterwegs--am-neustaedtischen-kirchplat.html
DTEND:20140201T193000
DTSTART:20140201T190000
UID:/content/rbb/rbb/heimatjournal/archiv/ulli-zelle-ist-in-berlin-unterwegs--am-neustaedtischen-kirchplat
DTSTAMP:20140405T004506
DESCRIPTION:Das Schadow-Haus - 250. Geburtstag des Bildhauers +++  Der Florenatlas - wildwachsende Pflanzen in Berlin +++ Die Abhörstation - aufregende Theaterproduktionen\n\n\n
SUMMARY:Ulli Zelle ist in Berlin unterwegs: am Neustädtischen Kirchplatz
END:VEVENT
END:VCALENDAR
