BEGIN:VCALENDAR
X-WR-TIMEZONE:Europe/Berlin
X-WR-CALNAME:rbb-Kalender
VERSION:2.0
METHOD:PUBLISH
CALSCALE:GREGORIAN
PRODID:rbb-CMS DAY
BEGIN:VEVENT
CLASS:PUBLIC
URL:http://www.rbb-online.de/content/rbb/rbb/heimatjournal/archiv/ulli-zelle-ist-in-berlin-unterwegs--stadtgeschichten-vom-karl-au.html
DTEND:20140315T190000
DTSTART:20140315T190000
UID:/content/rbb/rbb/heimatjournal/archiv/ulli-zelle-ist-in-berlin-unterwegs--stadtgeschichten-vom-karl-au
DTSTAMP:20140405T003543
DESCRIPTION:Currywurst und  Blumenkohl - der Wochenmarkt am Karl August Platz +++ Handwerker und  Virtuose  -  der Flötenbauer Hiko Iizuka +++ Helden und andere Menschen - der Autor Knud Kohr\n\n\n
SUMMARY:Ulli Zelle ist in Berlin-Charlottenburg am Karl-August-Platz unterwegs
END:VEVENT
END:VCALENDAR
